BEGIN:VCALENDAR
VERSION:2.0
PRODID:https://www.kufer.de/kuferweb / DE
METHOD:PUBLISH
CALSCALE:GREGORIAN
X-WR-TIMEZONE:Europe/Berlin
BEGIN:VTIMEZONE
TZID:Europe/Berlin
X-LIC-LOCATION:Europe/Berlin
BEGIN:DAYLIGHT
TZOFFSETFROM:+0100
TZOFFSETTO:+0200
TZNAME:CEST
DTSTART:19700329T020000
RRULE:FREQ=YEARLY;INTERVAL=1;BYDAY=-1SU;BYMONTH=3
END:DAYLIGHT
BEGIN:STANDARD
TZOFFSETFROM:+0200
TZOFFSETTO:+0100
TZNAME:CET
DTSTART:19701025T030000
RRULE:FREQ=YEARLY;INTERVAL=1;BYDAY=-1SU;BYMONTH=10
END:STANDARD
END:VTIMEZONE
BEGIN:VEVENT
DTSTAMP:20260420T140241
DTSTART;TZID=Europe/Berlin:20260506T160000
DTEND;TZID=Europe/Berlin:20260506T180000
UID:SS26EV-807-20260506T160000@JUBOHBOCHOLT JUNGE UNI
SUMMARY:Forscherraum Mai 2026 (SS26EV-807) 
LOCATION:LernWerk 0.26, Industriestr. 1, 46395 Bocholt
END:VEVENT
BEGIN:VEVENT
DTSTAMP:20260420T140241
DTSTART;TZID=Europe/Berlin:20260507T160000
DTEND;TZID=Europe/Berlin:20260507T180000
UID:SS26EV-807-20260507T160000@JUBOHBOCHOLT JUNGE UNI
SUMMARY:Forscherraum Mai 2026 (SS26EV-807) 
LOCATION:LernWerk 0.26, Industriestr. 1, 46395 Bocholt
END:VEVENT
BEGIN:VEVENT
DTSTAMP:20260420T140241
DTSTART;TZID=Europe/Berlin:20260513T160000
DTEND;TZID=Europe/Berlin:20260513T180000
UID:SS26EV-807-20260513T160000@JUBOHBOCHOLT JUNGE UNI
SUMMARY:Forscherraum Mai 2026 (SS26EV-807) 
LOCATION:LernWerk 0.26, Industriestr. 1, 46395 Bocholt
END:VEVENT
BEGIN:VEVENT
DTSTAMP:20260420T140241
DTSTART;TZID=Europe/Berlin:20260520T160000
DTEND;TZID=Europe/Berlin:20260520T180000
UID:SS26EV-807-20260520T160000@JUBOHBOCHOLT JUNGE UNI
SUMMARY:Forscherraum Mai 2026 (SS26EV-807) 
LOCATION:LernWerk 0.26, Industriestr. 1, 46395 Bocholt
END:VEVENT
BEGIN:VEVENT
DTSTAMP:20260420T140241
DTSTART;TZID=Europe/Berlin:20260521T160000
DTEND;TZID=Europe/Berlin:20260521T180000
UID:SS26EV-807-20260521T160000@JUBOHBOCHOLT JUNGE UNI
SUMMARY:Forscherraum Mai 2026 (SS26EV-807) 
LOCATION:LernWerk 0.26, Industriestr. 1, 46395 Bocholt
END:VEVENT
BEGIN:VEVENT
DTSTAMP:20260420T140241
DTSTART;TZID=Europe/Berlin:20260527T160000
DTEND;TZID=Europe/Berlin:20260527T180000
UID:SS26EV-807-20260527T160000@JUBOHBOCHOLT JUNGE UNI
SUMMARY:Forscherraum Mai 2026 (SS26EV-807) 
LOCATION:LernWerk 0.26, Industriestr. 1, 46395 Bocholt
END:VEVENT
BEGIN:VEVENT
DTSTAMP:20260420T140241
DTSTART;TZID=Europe/Berlin:20260528T160000
DTEND;TZID=Europe/Berlin:20260528T180000
UID:SS26EV-807-20260528T160000@JUBOHBOCHOLT JUNGE UNI
SUMMARY:Forscherraum Mai 2026 (SS26EV-807) 
LOCATION:LernWerk 0.26, Industriestr. 1, 46395 Bocholt
END:VEVENT
END:VCALENDAR