BEGIN:VCALENDAR
VERSION:2.0
PRODID:https://www.kufer.de/kuferweb / DE
METHOD:PUBLISH
CALSCALE:GREGORIAN
X-WR-TIMEZONE:Europe/Berlin
BEGIN:VTIMEZONE
TZID:Europe/Berlin
X-LIC-LOCATION:Europe/Berlin
BEGIN:DAYLIGHT
TZOFFSETFROM:+0100
TZOFFSETTO:+0200
TZNAME:CEST
DTSTART:19700329T020000
RRULE:FREQ=YEARLY;INTERVAL=1;BYDAY=-1SU;BYMONTH=3
END:DAYLIGHT
BEGIN:STANDARD
TZOFFSETFROM:+0200
TZOFFSETTO:+0100
TZNAME:CET
DTSTART:19701025T030000
RRULE:FREQ=YEARLY;INTERVAL=1;BYDAY=-1SU;BYMONTH=10
END:STANDARD
END:VTIMEZONE
BEGIN:VEVENT
DTSTAMP:20260420T140246
DTSTART;TZID=Europe/Berlin:20260415T160000
DTEND;TZID=Europe/Berlin:20260415T180000
UID:SS26EV-806-20260415T160000@JUBOHBOCHOLT JUNGE UNI
SUMMARY:Forscherraum April 2026 (SS26EV-806) 
LOCATION:LernWerk 0.26, Industriestr. 1, 46395 Bocholt
END:VEVENT
BEGIN:VEVENT
DTSTAMP:20260420T140246
DTSTART;TZID=Europe/Berlin:20260416T160000
DTEND;TZID=Europe/Berlin:20260416T180000
UID:SS26EV-806-20260416T160000@JUBOHBOCHOLT JUNGE UNI
SUMMARY:Forscherraum April 2026 (SS26EV-806) 
LOCATION:LernWerk 0.26, Industriestr. 1, 46395 Bocholt
END:VEVENT
BEGIN:VEVENT
DTSTAMP:20260420T140246
DTSTART;TZID=Europe/Berlin:20260420T160000
DTEND;TZID=Europe/Berlin:20260420T180000
UID:SS26EV-806-20260420T160000@JUBOHBOCHOLT JUNGE UNI
SUMMARY:Forscherraum April 2026 (SS26EV-806) 
LOCATION:LernWerk 0.26, Industriestr. 1, 46395 Bocholt
END:VEVENT
BEGIN:VEVENT
DTSTAMP:20260420T140246
DTSTART;TZID=Europe/Berlin:20260422T160000
DTEND;TZID=Europe/Berlin:20260422T180000
UID:SS26EV-806-20260422T160000@JUBOHBOCHOLT JUNGE UNI
SUMMARY:Forscherraum April 2026 (SS26EV-806) 
LOCATION:LernWerk 0.26, Industriestr. 1, 46395 Bocholt
END:VEVENT
BEGIN:VEVENT
DTSTAMP:20260420T140246
DTSTART;TZID=Europe/Berlin:20260423T160000
DTEND;TZID=Europe/Berlin:20260423T180000
UID:SS26EV-806-20260423T160000@JUBOHBOCHOLT JUNGE UNI
SUMMARY:Forscherraum April 2026 (SS26EV-806) 
LOCATION:LernWerk 0.26, Industriestr. 1, 46395 Bocholt
END:VEVENT
BEGIN:VEVENT
DTSTAMP:20260420T140246
DTSTART;TZID=Europe/Berlin:20260427T160000
DTEND;TZID=Europe/Berlin:20260427T180000
UID:SS26EV-806-20260427T160000@JUBOHBOCHOLT JUNGE UNI
SUMMARY:Forscherraum April 2026 (SS26EV-806) 
LOCATION:LernWerk 0.26, Industriestr. 1, 46395 Bocholt
END:VEVENT
BEGIN:VEVENT
DTSTAMP:20260420T140246
DTSTART;TZID=Europe/Berlin:20260429T160000
DTEND;TZID=Europe/Berlin:20260429T180000
UID:SS26EV-806-20260429T160000@JUBOHBOCHOLT JUNGE UNI
SUMMARY:Forscherraum April 2026 (SS26EV-806) 
LOCATION:LernWerk 0.26, Industriestr. 1, 46395 Bocholt
END:VEVENT
BEGIN:VEVENT
DTSTAMP:20260420T140246
DTSTART;TZID=Europe/Berlin:20260430T160000
DTEND;TZID=Europe/Berlin:20260430T180000
UID:SS26EV-806-20260430T160000@JUBOHBOCHOLT JUNGE UNI
SUMMARY:Forscherraum April 2026 (SS26EV-806) 
LOCATION:LernWerk 0.26, Industriestr. 1, 46395 Bocholt
END:VEVENT
END:VCALENDAR